BEGIN:VCALENDAR
VERSION:2.0
PRODID:spatie/icalendar-generator
DESCRIPTION:Events from Nórdica Libros
X-WR-CALDESC:Events from Nórdica Libros
REFRESH-INTERVAL;VALUE=DURATION:PT1440M
X-PUBLISHED-TTL:PT1440M
BEGIN:VTIMEZONE
TZID:Europe/Madrid
BEGIN:STANDARD
DTSTART:20251026T030000Z
TZOFFSETFROM:+0200
TZOFFSETTO:+0100
END:STANDARD
BEGIN:DAYLIGHT
DTSTART:20260329T020000Z
TZOFFSETFROM:+0100
TZOFFSETTO:+0200
END:DAYLIGHT
END:VTIMEZONE
BEGIN:VTIMEZONE
TZID:UTC
BEGIN:STANDARD
DTSTART:20250728T132953Z
TZOFFSETFROM:+0000
TZOFFSETTO:+0000
END:STANDARD
END:VTIMEZONE
BEGIN:VEVENT
UID:171-139
DTSTAMP:20260424T132953Z
SUMMARY:20 años de Nórdica. Aquí se ilustra\, en Panta Rhei
LOCATION:
ORGANIZER;CN=Nordica:MAILTO:silvia@nordicalibros.com
DTSTART;TZID=Europe/Madrid:20260312T190000
DTEND;TZID=Europe/Madrid:20260312T210000
X-ALT-DESC;FMTTYPE=TEXT/HTML:20 años de Nórdica. I Jornada dedicada a la 
 ilustración «Aquí se ilustra»\, en la librería Panta Rhei de Madrid. 
 Con Jesús Marchalamo\, Elena Ferrándiz y Fernando Vicente.
CATEGORIES:General
URL;VALUE=URI:https://nordicalibros.com/mc-events/20-anos-de-nordica-aqui-s
 e-ilustra-en-panta-rhei/
METHOD:PUBLISH
END:VEVENT
END:VCALENDAR